BEGIN:VCALENDAR
VERSION:2.0
PRODID:-//eventon.com NONSGML v1.0//EN
CALSCALE:GREGORIAN
METHOD:PUBLISH
BEGIN:VEVENT
UID:69ebc7665711c
DTSTAMP:20260424T194126Z
DTSTART:20260420T003500Z
DTEND:20260426T003500Z
LOCATION:
SUMMARY:Trekking en el Camino Inca hasta Machu Picchu
DESCRIPTION:Trekking en el Camino Inca hasta Machu Picchu\nhttps://hieloazu
 lturismoalternativo.tur.ar/events/trekking-en-el-camino-inca-hasta-machu-pi
 cchu-2/
URL:https://hieloazulturismoalternativo.tur.ar/events/trekking-en-el-camino-inca-hasta-machu-picchu-2/
END:VEVENT
END:VCALENDAR